BEGIN:VCALENDAR
VERSION:2.0
PRODID:-//Tukios.com/
BEGIN:VEVENT
UID:45905338-4eae-4cc7-8c11-c0b4e314d493@www.auldsfuneralhome.com
DTSTAMP:20260426T014837Z
DTSTART:20260428T190000Z
DTEND:20260428T200000Z
SUMMARY:Graveside Service
DESCRIPTION:
URL:https://www.auldsfuneralhome.com/obituaries/brenda-meyer-goforth
LOCATION:Archer City Cemetery Pavilion West Evergreen Street  Archer City 
	TX 76351
GEO:33.6021588;-98.6280854
END:VEVENT
END:VCALENDAR